Workbook
Name _MailEndCompose: 'Monthly DQ Notes'!#REF!
Name ad_hospital: #REF!
Name baseline: #REF!
Name current: #REF!
Name currentperiod: #REF!
Name data: #REF!
Name facility_list: #REF!
Name facility_number: #REF!
Name Hosp_name: #REF!
Name LastDay: #REF!
Name LHIN_LIST: #REF!
Name LHIN_NUMBER: #REF!
Name lookup: #REF!
Name lookupc: #REF!
Name lookupr: #REF!
Name masterfile: #REF!
Name open: #REF!
Name previous: #REF!
Name previousperiod: #REF!
Name previouspreviousperiod: #REF!
Name site: #REF!

Sheet Title Page
C10: Emergency Department
C14: Data Quality Notes (NACRS) - Up to July 2025 data
C15: Facility Level
C29: Prepared by: Data Quality & Compliance

Sheet Monthly DQ Notes
B3: ED Data Quality Notes
B4: Reporting Period: July data
B5: Data Source: CIHI NACRS
B6: Please see the table below regarding which months of data are refreshed in this report:
B7: Fiscal Year of ED Data | C7: Month of ED Data | D7: NACRS submission deadline date | E7: Historical Data Refreshed
B8: FY 2022-23 | C8: April 2022 - March 2023 | D8: May 31, 2023 | E8: No
B9: FY 2023-24 | C9: April 2023 - March 2024 | D9: May 31, 2024 | E9: No
B10: FY 2024-25 | C10: April 2024 - March 2025 | D10: May 31, 2025 | E10: No
B11: FY 2025-26 | C11: April - July 2025 | D11: August 15, 2025 | E11: Yes
B12: Important Notes: 1. The data quality designations and data quality notes pertain to the monthly ED data submitted by facilities to CIHI on the 10th business day of the month and received by Ontario Health on the 12th business day of the month following the reporting period. The data quality designations are displayed for all historic months (except for percent usable records to calculate wait times, which are applied automatically as RI in the performance reports) and the data quality notes are displayed for the most recent reporting month. 2. Sites that are identified as RI (Reporting Issue) will not have ED data shown in the report. However, the ED data for sites identified as RI (Reporting Issue) will be included in their respective Region and Sub-region as well as overall provincial ED information. In addition, NS (No Service) designation was given to facilities that are not required to report or no service offered. 3. Please note that the data quality and compliance process for ED data is performed at the site level, and that this data issue may affect results at the Facility/Sub-region/Region/Provincial level.
B13: Current Open Fiscal Year
A14: Date | B14: Data Month | C14: Site Name | D14: Site Number | E14: Region | F14: Data Quality Notes | G14: Designation | H14: Indicator | I14: Indicator Short Name | J14: Type | K14: site number | L14: p4r | M14: lhin name | N14: lhin number | O14: cdu | P14: Info
A15: =B15 -> 45839 | B15: 45839 | C15: Alexandra Hospital | D15: 4058 | E15: West | F15: Data was not submitted by the deadline | G15: RI | H15: Reported ED volumes | I15: VOL | J15: DQ_VOL | K15: 4058 | L15: No | M15: South West | N15: 2 | O15: Yes
A16: =B16 -> 45839 | B16: 45839 | C16: Tillsonburg District Memorial Hospital | D16: 4093 | E16: West | F16: Data was not submitted by the deadline | G16: RI | H16: Reported ED volumes | I16: VOL | J16: DQ_VOL | K16: 4093 | L16: No | M16: South West | N16: 2 | O16: Yes
A17: =B17 -> 45839 | B17: 45839 | C17: Mackenzie Health-Jane Street Site | D17: 4818 | E17: Central | F17: Data was not submitted by the deadline | G17: RI | H17: Reported ED volumes | I17: VOL | J17: DQ_VOL | K17: 4818 | L17: No | M17: Central | N17: 8 | O17: No
A18: =B18 -> 45839 | B18: 45839 | C18: Perth and Smiths Falls Dist-Perth Site | D18: 4251 | E18: East | F18: Data was not submitted by the deadline related to system implementation/upgrade | G18: RI | H18: Reported ED volumes | I18: VOL | J18: DQ_VOL | K18: 4251 | L18: No | M18: South East | N18: 10 | O18: No
A19: =B19 -> 45839 | B19: 45839 | C19: Perth and Smiths Falls Dist-Smiths Falls | D19: 4316 | E19: East | F19: Data was not submitted by the deadline related to system implementation/upgrade | G19: RI | H19: Reported ED volumes | I19: VOL | J19: DQ_VOL | K19: 4316 | L19: No | M19: South East | N19: 10 | O19: No
A20: =B20 -> 45839 | B20: 45839 | C20: Glengarry Memorial Hospital | D20: 4243 | E20: East | F20: Data confirmed as inaccurate | G20: RI | H20: Ambulance Offload Time | I20: P4R_AOT | J20: DQ_AOT | K20: 4243 | L20: No | M20: Champlain | N20: 11 | O20: No
A21: =B21 -> 45839 | B21: 45839 | C21: Orillia Soldiers' Memorial Hospital | D21: 4108 | E21: North Simcoe Muskoka | F21: Data confirmed as inaccurate | G21: RI | H21: Ambulance Offload Time | I21: P4R_AOT | J21: DQ_AOT | K21: 4108 | L21: Yes | M21: North Simcoe Muskoka | N21: 12 | O21: No
A22: =B22 -> 45839 | B22: 45839 | C22: Haldimand War Memorial Hospital | D22: 4070 | E22: West | F22: Data Quality concerns | G22: RI | H22: Time to Inpatient Bed | I22: P4R_IPB | J22: DQ_IPB | K22: 4070 | L22: No | M22: Hamilton Niagara Haldimand Brant | N22: 4 | O22: No
A23: =B23 -> 45839 | B23: 45839 | C23: Trillium Health Partners-Credit Valley | D23: 4751 | E23: Central | F23: Data quality concerns | G23: RI | H23: Ambulance Offload Time | I23: P4R_AOT | J23: DQ_AOT | K23: 4751 | L23: Yes | M23: Mississauga Halton | N23: 6 | O23: Yes
A24: =B24 -> 45839 | B24: 45839 | C24: Trillium Health Partners-Credit Valley | D24: 4751 | E24: Central | F24: Data quality concerns | G24: DQN | H24: Time to Physician Initial Assessment | I24: P4R_PIA | J24: DQ_PIA | K24: 4751 | L24: Yes | M24: Mississauga Halton | N24: 6 | O24: Yes
A25: =B25 -> 45839 | B25: 45839 | C25: University Health Network-General Site | D25: 4265 | E25: Toronto | F25: Data quality concerns | G25: DQN | H25: Reported ED volumes | I25: VOL | J25: DQ_VOL | K25: 4265 | L25: Yes | M25: Toronto Central | N25: 7 | O25: Yes
A26: =B26 -> 45839 | B26: 45839 | C26: University Health Network-General Site | D26: 4265 | E26: Toronto | F26: Data quality concerns | G26: DQN | H26: Reported ambulance volumes | I26: AMBVOL | J26: DQ_AMB_VOL | K26: 4265 | L26: Yes | M26: Toronto Central | N26: 7 | O26: Yes
... A79: =B79 -> 45809 | B79: 45809 | C79: Hospital for Sick Children (The) | D79: 3969 | E79: Toronto | F79: Data confirmed as inaccurate | G79: DQN | H79: Reported ambulance volumes | I79: AMBVOL | J79: DQ_AMB_VOL | K79: 3969 | L79: Yes | M79: Toronto Central | N79: 7 | O79: Yes
A80: =B80 -> 45809 | B80: 45809 | C80: Hospital for Sick Children (The) | D80: 3969 | E80: Toronto | F80: Data quality concerns | G80: DQN | H80: Ambulance Offload Time | I80: P4R_AOT | J80: DQ_AOT | K80: 3969 | L80: Yes | M80: Toronto Central | N80: 7 | O80: Yes | P80: New
A81: =B81 -> 45809 | B81: 45809 | C81: North Bay Regional Health Centre | D81: 4734 | E81: North East | F81: Data quality concerns | G81: DQN | H81: ED LOS for admitted patients | I81: P4R_LOSA | J81: DQ_LOS | K81: 4734 | L81: Yes | M81: North East | N81: 13 | O81: Yes
A82: =B82 -> 45809 | B82: 45809 | C82: North Bay Regional Health Centre | D82: 4734 | E82: North East | F82: Data quality concerns | G82: DQN | H82: Time to Inpatient Bed | I82: P4R_IPB | J82: DQ_IPB | K82: 4734 | L82: Yes | M82: North East | N82: 13 | O82: Yes
A83: =B83 -> 45809 | B83: 45809 | C83: Queensway-Carleton Hospital | D83: 3970 | E83: East | F83: Data quality concerns | G83: DQN | H83: Time to Physician Initial Assessment | I83: P4R_PIA | J83: DQ_PIA | K83: 3970 | L83: Yes | M83: Champlain | N83: 11 | O83: Yes
A84: =B84 -> 45809 | B84: 45809 | C84: Winchester District Memorial Hospital | D84: 4267 | E84: East | F84: Data quality concerns | G84: DQN | H84: Ambulance Offload Time | I84: P4R_AOT | J84: DQ_AOT | K84: 4267 | L84: No | M84: Champlain | N84: 11 | O84: No | P84: New
A85: =B85 -> 45809 | B85: 45809 | C85: Bluewater Health-Sarnia General Site | D85: 4109 | E85: West | F85: System implementation/upgrade and data quality concerns | G85: DQN | H85: Reported ED volumes | I85: VOL | J85: DQ_VOL | K85: 4109 | L85: Yes | M85: Erie-St.Clair | N85: 1 | O85: Yes
A86: =B86 -> 45809 | B86: 45809 | C86: Bluewater Health-Petrolia Site | D86: 4256 | E86: West | F86: System implementation/upgrade and data quality concerns | G86: DQN | H86: Reported ED volumes | I86: VOL | J86: DQ_VOL | K86: 4256 | L86: No | M86: Erie-St.Clair | N86: 1 | O86: No
A87: =B87 -> 45809 | B87: 45809 | C87: Brockville General Hospital | D87: 4186 | E87: East | F87: System implementation/upgrade and data quality concerns | G87: DQN | H87: Reported ED volumes | I87: VOL | J87: DQ_VOL | K87: 4186 | L87: No | M87: South East | N87: 10 | O87: No
A88: =B88 -> 45809 | B88: 45809 | C88: Kingston Health Sciences Centre-Kingston General | D88: 4832 | E88: East | F88: System implementation/upgrade and data quality concerns | G88: DQN | H88: Reported ED volumes | I88: VOL | J88: DQ_VOL | K88: 4832 | L88: Yes | M88: South East | N88: 10 | O88: Yes
A89: =B89 -> 45809 | B89: 45809 | C89: Kingston Health Sciences Centre-Hotel Dieu | D89: 4829 | E89: East | F89: System implementation/upgrade and data quality concerns | G89: DQN | H89: Reported ED volumes | I89: VOL | J89: DQ_VOL | K89: 4829 | L89: No | M89: South East | N89: 10 | O89: No
A90: =B90 -> 45809 | B90: 45809 | C90: Lennox and Addington County Gen Hospital | D90: 4092 | E90: East | F90: System implementation/upgrade and data quality concerns | G90: DQN | H90: Reported ED volumes | I90: VOL | J90: DQ_VOL | K90: 4092 | L90: Yes | M90: South East | N90: 10 | O90: No
A91: =B91 -> 45809 | B91: 45809 | C91: Niagara Health System-Fort Erie Douglas Site | D91: 4232 | E91: West | F91: System implementation/upgrade and data quality concerns | G91: DQN | H91: Reported ED volumes | I91: VOL | J91: DQ_VOL | K91: 4232 | L91: No | M91: Hamilton Niagara Haldimand Brant | N91: 4 | O91: No
A92: =B92 -> 45809 | B92: 45809 | C92: Niagara Health System-Greater Niagara | D92: 3982 | E92: West | F92: System implementation/upgrade and data quality concerns | G92: DQN | H92: Reported ED volumes | I92: VOL | J92: DQ_VOL | K92: 3982 | L92: Yes | M92: Hamilton Niagara Haldimand Brant | N92: 4 | O92: Yes
A93: =B93 -> 45809 | B93: 45809 | C93: Niagara Health System-Port Colborne Site | D93: 4183 | E93: West | F93: System implementation/upgrade and data quality concerns | G93: DQN | H93: Reported ED volumes | I93: VOL | J93: DQ_VOL | K93: 4183 | L93: No | M93: Hamilton Niagara Haldimand Brant | N93: 4 | O93: No
A94: =B94 -> 45809 | B94: 45809 | C94: Niagara Health System-Marotta Family Hosp | D94: 4045 | E94: West | F94: System implementation/upgrade and data quality concerns | G94: DQN | H94: Reported ED volumes | I94: VOL | J94: DQ_VOL | K94: 4045 | L94: Yes | M94: Hamilton Niagara Haldimand Brant | N94: 4 | O94: Yes
...

Sheet Monthly DQ Notes_PBI
A1: period | B1: edcd | C1: DQ | D1: notes | E1: type | F1: Indicator Short Name | G1: Period_EDCD_Type | H1: Duplicate based on column G
A2: ='Monthly DQ Notes'!A15 -> 45839 | B2: ='Monthly DQ Notes'!D15 -> 4058 | C2: ='Monthly DQ Notes'!G15 -> RI | D2: ='Monthly DQ Notes'!F15 -> Data was not submitted by the deadline | E2: ='Monthly DQ Notes'!J15 -> DQ_VOL | F2: ='Monthly DQ Notes'!I15 -> VOL | G2: =A2&"_"&B2&"_"&E2 -> 45839_4058_DQ_VOL | H2: =IF(COUNTIF(G$2:G2,G2)>1,"Duplicate","Single") -> Single
A3: ='Monthly DQ Notes'!A16 -> 45839 | B3: ='Monthly DQ Notes'!D16 -> 4093 | C3: ='Monthly DQ Notes'!G16 -> RI | D3: ='Monthly DQ Notes'!F16 -> Data was not submitted by the deadline | E3: ='Monthly DQ Notes'!J16 -> DQ_VOL | F3: ='Monthly DQ Notes'!I16 -> VOL | G3: =A3&"_"&B3&"_"&E3 -> 45839_4093_DQ_VOL | H3: =IF(COUNTIF(G$2:G3,G3)>1,"Duplicate","Single") -> Single
A4: ='Monthly DQ Notes'!A17 -> 45839 | B4: ='Monthly DQ Notes'!D17 -> 4818 | C4: ='Monthly DQ Notes'!G17 -> RI | D4: ='Monthly DQ Notes'!F17 -> Data was not submitted by the deadline | E4: ='Monthly DQ Notes'!J17 -> DQ_VOL | F4: ='Monthly DQ Notes'!I17 -> VOL | G4: =A4&"_"&B4&"_"&E4 -> 45839_4818_DQ_VOL | H4: =IF(COUNTIF(G$2:G4,G4)>1,"Duplicate","Single") -> Single
A5: ='Monthly DQ Notes'!A18 -> 45839 | B5: ='Monthly DQ Notes'!D18 -> 4251 | C5: ='Monthly DQ Notes'!G18 -> RI | D5: ='Monthly DQ Notes'!F18 -> Data was not submitted by the deadline related to system implementation/upgrade | E5: ='Monthly DQ Notes'!J18 -> DQ_VOL | F5: ='Monthly DQ Notes'!I18 -> VOL | G5: =A5&"_"&B5&"_"&E5 -> 45839_4251_DQ_VOL | H5: =IF(COUNTIF(G$2:G5,G5)>1,"Duplicate","Single") -> Single
A6: ='Monthly DQ Notes'!A19 -> 45839 | B6: ='Monthly DQ Notes'!D19 -> 4316 | C6: ='Monthly DQ Notes'!G19 -> RI | D6: ='Monthly DQ Notes'!F19 -> Data was not submitted by the deadline related to system implementation/upgrade | E6: ='Monthly DQ Notes'!J19 -> DQ_VOL | F6: ='Monthly DQ Notes'!I19 -> VOL | G6: =A6&"_"&B6&"_"&E6 -> 45839_4316_DQ_VOL | H6: =IF(COUNTIF(G$2:G6,G6)>1,"Duplicate","Single") -> Single
A7: ='Monthly DQ Notes'!A20 -> 45839 | B7: ='Monthly DQ Notes'!D20 -> 4243 | C7: ='Monthly DQ Notes'!G20 -> RI | D7: ='Monthly DQ Notes'!F20 -> Data confirmed as inaccurate | E7: ='Monthly DQ Notes'!J20 -> DQ_AOT | F7: ='Monthly DQ Notes'!I20 -> P4R_AOT | G7: =A7&"_"&B7&"_"&E7 -> 45839_4243_DQ_AOT | H7: =IF(COUNTIF(G$2:G7,G7)>1,"Duplicate","Single") -> Single
A8: ='Monthly DQ Notes'!A21 -> 45839 | B8: ='Monthly DQ Notes'!D21 -> 4108 | C8: ='Monthly DQ Notes'!G21 -> RI | D8: ='Monthly DQ Notes'!F21 -> Data confirmed as inaccurate | E8: ='Monthly DQ Notes'!J21 -> DQ_AOT | F8: ='Monthly DQ Notes'!I21 -> P4R_AOT | G8: =A8&"_"&B8&"_"&E8 -> 45839_4108_DQ_AOT | H8: =IF(COUNTIF(G$2:G8,G8)>1,"Duplicate","Single") -> Single
A9: ='Monthly DQ Notes'!A22 -> 45839 | B9: ='Monthly DQ Notes'!D22 -> 4070 | C9: ='Monthly DQ Notes'!G22 -> RI | D9: ='Monthly DQ Notes'!F22 -> Data Quality concerns | E9: ='Monthly DQ Notes'!J22 -> DQ_IPB | F9: ='Monthly DQ Notes'!I22 -> P4R_IPB | G9: =A9&"_"&B9&"_"&E9 -> 45839_4070_DQ_IPB | H9: =IF(COUNTIF(G$2:G9,G9)>1,"Duplicate","Single") -> Single
A10: ='Monthly DQ Notes'!A23 -> 45839 | B10: ='Monthly DQ Notes'!D23 -> 4751 | C10: ='Monthly DQ Notes'!G23 -> RI | D10: ='Monthly DQ Notes'!F23 -> Data quality concerns | E10: ='Monthly DQ Notes'!J23 -> DQ_AOT | F10: ='Monthly DQ Notes'!I23 -> P4R_AOT | G10: =A10&"_"&B10&"_"&E10 -> 45839_4751_DQ_AOT | H10: =IF(COUNTIF(G$2:G10,G10)>1,"Duplicate","Single") -> Single
A11: ='Monthly DQ Notes'!A24 -> 45839 | B11: ='Monthly DQ Notes'!D24 -> 4751 | C11: ='Monthly DQ Notes'!G24 -> DQN | D11: ='Monthly DQ Notes'!F24 -> Data quality concerns | E11: ='Monthly DQ Notes'!J24 -> DQ_PIA | F11: ='Monthly DQ Notes'!I24 -> P4R_PIA | G11: =A11&"_"&B11&"_"&E11 -> 45839_4751_DQ_PIA | H11: =IF(COUNTIF(G$2:G11,G11)>1,"Duplicate","Single") -> Single
A12: ='Monthly DQ Notes'!A25 -> 45839 | B12: ='Monthly DQ Notes'!D25 -> 4265 | C12: ='Monthly DQ Notes'!G25 -> DQN | D12: ='Monthly DQ Notes'!F25 -> Data quality concerns | E12: ='Monthly DQ Notes'!J25 -> DQ_VOL | F12: ='Monthly DQ Notes'!I25 -> VOL | G12: =A12&"_"&B12&"_"&E12 -> 45839_4265_DQ_VOL | H12: =IF(COUNTIF(G$2:G12,G12)>1,"Duplicate","Single") -> Single
A13: ='Monthly DQ Notes'!A26 -> 45839 | B13: ='Monthly DQ Notes'!D26 -> 4265 | C13: ='Monthly DQ Notes'!G26 -> DQN | D13: ='Monthly DQ Notes'!F26 -> Data quality concerns | E13: ='Monthly DQ Notes'!J26 -> DQ_AMB_VOL | F13: ='Monthly DQ Notes'!I26 -> AMBVOL | G13: =A13&"_"&B13&"_"&E13 -> 45839_4265_DQ_AMB_VOL | H13: =IF(COUNTIF(G$2:G13,G13)>1,"Duplicate","Single") -> Single
... A106: ='Monthly DQ Notes'!A119 -> 45778 | B106: ='Monthly DQ Notes'!D119 -> 4832 | C106: ='Monthly DQ Notes'!G119 -> DQN | D106: ='Monthly DQ Notes'!F119 -> System implementation/upgrade and data quality concerns | E106: ='Monthly DQ Notes'!J119 -> DQ_VOL | F106: ='Monthly DQ Notes'!I119 -> VOL | G106: =A106&"_"&B106&"_"&E106 -> 45778_4832_DQ_VOL | H106: =IF(COUNTIF(G$2:G106,G106)>1,"Duplicate","Single") -> Single
A107: ='Monthly DQ Notes'!A118 -> 45778 | B107: ='Monthly DQ Notes'!D120 -> 4829 | C107: ='Monthly DQ Notes'!G120 -> DQN | D107: ='Monthly DQ Notes'!F120 -> System implementation/upgrade and data quality concerns | E107: ='Monthly DQ Notes'!J120 -> DQ_VOL | F107: ='Monthly DQ Notes'!I120 -> VOL | G107: =A107&"_"&B107&"_"&E107 -> 45778_4829_DQ_VOL | H107: =IF(COUNTIF(G$2:G107,G107)>1,"Duplicate","Single") -> Single
A108: ='Monthly DQ Notes'!A119 -> 45778 | B108: ='Monthly DQ Notes'!D121 -> 4092 | C108: ='Monthly DQ Notes'!G121 -> DQN | D108: ='Monthly DQ Notes'!F121 -> System implementation/upgrade and data quality concerns | E108: ='Monthly DQ Notes'!J121 -> DQ_VOL | F108: ='Monthly DQ Notes'!I121 -> VOL | G108: =A108&"_"&B108&"_"&E108 -> 45778_4092_DQ_VOL | H108: =IF(COUNTIF(G$2:G108,G108)>1,"Duplicate","Single") -> Single
A109: ='Monthly DQ Notes'!A120 -> 45778 | B109: ='Monthly DQ Notes'!D122 -> 4232 | C109: ='Monthly DQ Notes'!G122 -> DQN | D109: ='Monthly DQ Notes'!F122 -> System implementation/upgrade and data quality concerns | E109: ='Monthly DQ Notes'!J122 -> DQ_VOL | F109: ='Monthly DQ Notes'!I122 -> VOL | G109: =A109&"_"&B109&"_"&E109 -> 45778_4232_DQ_VOL | H109: =IF(COUNTIF(G$2:G109,G109)>1,"Duplicate","Single") -> Single
A110: ='Monthly DQ Notes'!A121 -> 45778 | B110: ='Monthly DQ Notes'!D123 -> 3982 | C110: ='Monthly DQ Notes'!G123 -> DQN | D110: ='Monthly DQ Notes'!F123 -> System implementation/upgrade and data quality concerns | E110: ='Monthly DQ Notes'!J123 -> DQ_VOL | F110: ='Monthly DQ Notes'!I123 -> VOL | G110: =A110&"_"&B110&"_"&E110 -> 45778_3982_DQ_VOL | H110: =IF(COUNTIF(G$2:G110,G110)>1,"Duplicate","Single") -> Single
A111: ='Monthly DQ Notes'!A122 -> 45778 | B111: ='Monthly DQ Notes'!D124 -> 4183 | C111: ='Monthly DQ Notes'!G124 -> DQN | D111: ='Monthly DQ Notes'!F124 -> System implementation/upgrade and data quality concerns | E111: ='Monthly DQ Notes'!J124 -> DQ_VOL | F111: ='Monthly DQ Notes'!I124 -> VOL | G111: =A111&"_"&B111&"_"&E111 -> 45778_4183_DQ_VOL | H111: =IF(COUNTIF(G$2:G111,G111)>1,"Duplicate","Single") -> Single
A112: ='Monthly DQ Notes'!A123 -> 45778 | B112: ='Monthly DQ Notes'!D125 -> 4045 | C112: ='Monthly DQ Notes'!G125 -> DQN | D112: ='Monthly DQ Notes'!F125 -> System implementation/upgrade and data confirmed inaccurate | E112: ='Monthly DQ Notes'!J125 -> DQ_VOL | F112: ='Monthly DQ Notes'!I125 -> VOL | G112: =A112&"_"&B112&"_"&E112 -> 45778_4045_DQ_VOL | H112: =IF(COUNTIF(G$2:G112,G112)>1,"Duplicate","Single") -> Single
A113: ='Monthly DQ Notes'!A124 -> 45778 | B113: ='Monthly DQ Notes'!D126 -> 4045 | C113: ='Monthly DQ Notes'!G126 -> DQN | D113: ='Monthly DQ Notes'!F126 -> System implementation/upgrade and data confirmed inaccurate | E113: ='Monthly DQ Notes'!J126 -> DQ_AMB_VOL | F113: ='Monthly DQ Notes'!I126 -> AMBVOL | G113: =A113&"_"&B113&"_"&E113 -> 45778_4045_DQ_AMB_VOL | H113: =IF(COUNTIF(G$2:G113,G113)>1,"Duplicate","Single") -> Single
A114: ='Monthly DQ Notes'!A125 -> 45778 | B114: ='Monthly DQ Notes'!D127 -> 3978 | C114: ='Monthly DQ Notes'!G127 -> DQN | D114: ='Monthly DQ Notes'!F127 -> System implementation/upgrade and data quality concerns | E114: ='Monthly DQ Notes'!J127 -> DQ_VOL | F114: ='Monthly DQ Notes'!I127 -> VOL | G114: =A114&"_"&B114&"_"&E114 -> 45778_3978_DQ_VOL | H114: =IF(COUNTIF(G$2:G114,G114)>1,"Duplicate","Single") -> Single
A115: ='Monthly DQ Notes'!A126 -> 45778 | B115: ='Monthly DQ Notes'!D128 -> 4251 | C115: ='Monthly DQ Notes'!G128 -> DQN | D115: ='Monthly DQ Notes'!F128 -> System implementation/upgrade and data quality concerns | E115: ='Monthly DQ Notes'!J128 -> DQ_VOL | F115: ='Monthly DQ Notes'!I128 -> VOL | G115: =A115&"_"&B115&"_"&E115 -> 45778_4251_DQ_VOL | H115: =IF(COUNTIF(G$2:G115,G115)>1,"Duplicate","Single") -> Single
A116: ='Monthly DQ Notes'!A127 -> 45778 | B116: ='Monthly DQ Notes'!D129 -> 4316 | C116: ='Monthly DQ Notes'!G129 -> DQN | D116: ='Monthly DQ Notes'!F129 -> System implementation/upgrade and data quality concerns | E116: ='Monthly DQ Notes'!J129 -> DQ_VOL | F116: ='Monthly DQ Notes'!I129 -> VOL | G116: =A116&"_"&B116&"_"&E116 -> 45778_4316_DQ_VOL | H116: =IF(COUNTIF(G$2:G116,G116)>1,"Duplicate","Single") -> Single
A117: ='Monthly DQ Notes'!A128 -> 45778 | B117: ='Monthly DQ Notes'!D130 -> 4097 | C117: ='Monthly DQ Notes'!G130 -> DQN | D117: ='Monthly DQ Notes'!F130 -> System implementation/upgrade and data quality concerns | E117: ='Monthly DQ Notes'!J130 -> DQ_VOL | F117: ='Monthly DQ Notes'!I130 -> VOL | G117: =A117&"_"&B117&"_"&E117 -> 45778_4097_DQ_VOL | H117: =IF(COUNTIF(G$2:G117,G117)>1,"Duplicate","Single") -> Single
A118: ='Monthly DQ Notes'!A129 -> 45778 | B118: ='Monthly DQ Notes'!D131 -> 4097 | C118: ='Monthly DQ Notes'!G131 -> DQN | D118: ='Monthly DQ Notes'!F131 -> System implementation/upgrade and data quality concerns | E118: ='Monthly DQ Notes'!J131 -> DQ_AOT | F118: ='Monthly DQ Notes'!I131 -> P4R_AOT | G118: =A118&"_"&B118&"_"&E118 -> 45778_4097_DQ_AOT | H118: =IF(COUNTIF(G$2:G118,G118)>1,"Duplicate","Single") -> Single
... A151: ='Monthly DQ Notes'!A162 -> 45748 | B151: ='Monthly DQ Notes'!D164 -> 4248 | C151: ='Monthly DQ Notes'!G164 -> DQN | D151: ='Monthly DQ Notes'!F164 -> Data Quality concerns | E151: ='Monthly DQ Notes'!J164 -> DQ_IPB | F151: ='Monthly DQ Notes'!I164 -> Defaulting_IPB | G151: =A151&"_"&B151&"_"&E151 -> 45748_4248_DQ_IPB | H151: =IF(COUNTIF(G$2:G151,G151)>1,"Duplicate","Single") -> Single
A152: Past Fiscal Years | G152: =A152&"_"&B152&"_"&E152 -> Past Fiscal Years__
A153: period | B153: edcd | C153: DQ | D153: notes | E153: type | F153: Indicator Short Name | G153: =A153&"_"&B153&"_"&E153 -> period_edcd_type
A154: ='Monthly DQ Notes'!A167 -> 45717 | B154: ='Monthly DQ Notes'!D167 -> 4316 | C154: ='Monthly DQ Notes'!G167 -> RI | D154: ='Monthly DQ Notes'!F167 -> Insufficient number of records submitted | E154: ='Monthly DQ Notes'!J167 -> DQ_AMB_VOL | F154: ='Monthly DQ Notes'!I167 -> AMBVOL | G154: =A154&"_"&B154&"_"&E154 -> 45717_4316_DQ_AMB_VOL | H154: =IF(COUNTIF(G$2:G154,G154)>1,"Duplicate","Single") -> Single
A155: ='Monthly DQ Notes'!A168 -> 45717 | B155: ='Monthly DQ Notes'!D168 -> 4109 | C155: ='Monthly DQ Notes'!G168 -> DQN | D155: ='Monthly DQ Notes'!F168 -> System implementation/upgrade and data quality concerns | E155: ='Monthly DQ Notes'!J168 -> DQ_VOL | F155: ='Monthly DQ Notes'!I168 -> VOL | G155: =A155&"_"&B155&"_"&E155 -> 45717_4109_DQ_VOL | H155: =IF(COUNTIF(G$2:G155,G155)>1,"Duplicate","Single") -> Single
A156: ='Monthly DQ Notes'!A169 -> 45717 | B156: ='Monthly DQ Notes'!D169 -> 4256 | C156: ='Monthly DQ Notes'!G169 -> DQN | D156: ='Monthly DQ Notes'!F169 -> System implementation/upgrade and data quality concerns | E156: ='Monthly DQ Notes'!J169 -> DQ_VOL | F156: ='Monthly DQ Notes'!I169 -> VOL | G156: =A156&"_"&B156&"_"&E156 -> 45717_4256_DQ_VOL | H156: =IF(COUNTIF(G$2:G156,G156)>1,"Duplicate","Single") -> Single
A157: ='Monthly DQ Notes'!A170 -> 45717 | B157: ='Monthly DQ Notes'!D170 -> 4186 | C157: ='Monthly DQ Notes'!G170 -> DQN | D157: ='Monthly DQ Notes'!F170 -> System implementation/upgrade and data quality concerns | E157: ='Monthly DQ Notes'!J170 -> DQ_VOL | F157: ='Monthly DQ Notes'!I170 -> VOL | G157: =A157&"_"&B157&"_"&E157 -> 45717_4186_DQ_VOL | H157: =IF(COUNTIF(G$2:G157,G157)>1,"Duplicate","Single") -> Single
A158: ='Monthly DQ Notes'!A171 -> 45717 | B158: ='Monthly DQ Notes'!D171 -> 4832 | C158: ='Monthly DQ Notes'!G171 -> DQN | D158: ='Monthly DQ Notes'!F171 -> System implementation/upgrade and data quality concerns | E158: ='Monthly DQ Notes'!J171 -> DQ_VOL | F158: ='Monthly DQ Notes'!I171 -> VOL | G158: =A158&"_"&B158&"_"&E158 -> 45717_4832_DQ_VOL | H158: =IF(COUNTIF(G$2:G158,G158)>1,"Duplicate","Single") -> Single
A159: ='Monthly DQ Notes'!A172 -> 45717 | B159: ='Monthly DQ Notes'!D172 -> 4829 | C159: ='Monthly DQ Notes'!G172 -> DQN | D159: ='Monthly DQ Notes'!F172 -> System implementation/upgrade and data quality concerns | E159: ='Monthly DQ Notes'!J172 -> DQ_VOL | F159: ='Monthly DQ Notes'!I172 -> VOL | G159: =A159&"_"&B159&"_"&E159 -> 45717_4829_DQ_VOL | H159: =IF(COUNTIF(G$2:G159,G159)>1,"Duplicate","Single") -> Single
A160: ='Monthly DQ Notes'!A173 -> 45717 | B160: ='Monthly DQ Notes'!D173 -> 4092 | C160: ='Monthly DQ Notes'!G173 -> DQN | D160: ='Monthly DQ Notes'!F173 -> System implementation/upgrade and data quality concerns | E160: ='Monthly DQ Notes'!J173 -> DQ_VOL | F160: ='Monthly DQ Notes'!I173 -> VOL | G160: =A160&"_"&B160&"_"&E160 -> 45717_4092_DQ_VOL | H160: =IF(COUNTIF(G$2:G160,G160)>1,"Duplicate","Single") -> Single
A161: ='Monthly DQ Notes'!A174 -> 45717 | B161: ='Monthly DQ Notes'!D174 -> 4232 | C161: ='Monthly DQ Notes'!G174 -> DQN | D161: ='Monthly DQ Notes'!F174 -> System implementation/upgrade and data quality concerns | E161: ='Monthly DQ Notes'!J174 -> DQ_VOL | F161: ='Monthly DQ Notes'!I174 -> VOL | G161: =A161&"_"&B161&"_"&E161 -> 45717_4232_DQ_VOL | H161: =IF(COUNTIF(G$2:G161,G161)>1,"Duplicate","Single") -> Single
A162: ='Monthly DQ Notes'!A175 -> 45717 | B162: ='Monthly DQ Notes'!D175 -> 3982 | C162: ='Monthly DQ Notes'!G175 -> DQN | D162: ='Monthly DQ Notes'!F175 -> System implementation/upgrade and data quality concerns | E162: ='Monthly DQ Notes'!J175 -> DQ_VOL | F162: ='Monthly DQ Notes'!I175 -> VOL | G162: =A162&"_"&B162&"_"&E162 -> 45717_3982_DQ_VOL | H162: =IF(COUNTIF(G$2:G162,G162)>1,"Duplicate","Single") -> Single
A163: ='Monthly DQ Notes'!A176 -> 45717 | B163: ='Monthly DQ Notes'!D176 -> 4183 | C163: ='Monthly DQ Notes'!G176 -> DQN | D163: ='Monthly DQ Notes'!F176 -> System implementation/upgrade and data quality concerns | E163: ='Monthly DQ Notes'!J176 -> DQ_VOL | F163: ='Monthly DQ Notes'!I176 -> VOL | G163: =A163&"_"&B163&"_"&E163 -> 45717_4183_DQ_VOL | H163: =IF(COUNTIF(G$2:G163,G163)>1,"Duplicate","Single") -> Single
A164: ='Monthly DQ Notes'!A177 -> 45717 | B164: ='Monthly DQ Notes'!D177 -> 4045 | C164: ='Monthly DQ Notes'!G177 -> DQN | D164: ='Monthly DQ Notes'!F177 -> System implementation/upgrade and data quality concerns | E164: ='Monthly DQ Notes'!J177 -> DQ_VOL | F164: ='Monthly DQ Notes'!I177 -> VOL | G164: =A164&"_"&B164&"_"&E164 -> 45717_4045_DQ_VOL | H164: =IF(COUNTIF(G$2:G164,G164)>1,"Duplicate","Single") -> Single
...

Sheet Quarterly Usability
A1: period | B1: edcd | C1: DQ | D1: notes | E1: type | F1: Indicator Short Name
A2: 45383 | B2: 4058 | C2: RI | D2: Insufficient number of usable records | E2: DQ_AOT | F2: Usability_AOT
A3: 45383 | B3: 4109 | C3: RI | D3: Insufficient number of usable records | E3: DQ_AOT | F3: Usability_AOT
A4: 45474 | B4: 4256 | C4: RI | D4: Insufficient number of usable records | E4: DQ_AOT | F4: Usability_AOT
A5: 45474 | B5: 4058 | C5: RI | D5: Insufficient number of usable records | E5: DQ_AOT | F5: Usability_AOT
A6: 45474 | B6: 4109 | C6: RI | D6: Insufficient number of usable records | E6: DQ_AOT | F6: Usability_AOT
A7: 45566 | B7: 4109 | C7: RI | D7: Insufficient number of usable records | E7: DQ_AOT | F7: Usability_AOT

Sheet YTD Usability
A1: period | B1: edcd | C1: DQ | D1: notes | E1: type | F1: Indicator Short Name
A2: 45748 | B2: 4251 | C2: RI | D2: Infufficent number of records submitted | E2: DQ_VOL | F2: VOL
A3: 45748 | B3: 4316 | C3: RI | D3: Infufficent number of records submitted | E3: DQ_VOL | F3: VOL
A4: 45748 | B4: 4316 | C4: RI | D4: Insufficient number of usable records | E4: DQ_AMB_VOL | F4: AMBVOL

Sheet sitelist
A1: Site Number | B1: ISTCL Site Name | C1: ER Wait Time Hospital | D1: Wave | E1: Hospital Group | F1: Hospital Group Code | G1: Region Name | H1: RegionID | I1: Facility Name | J1: Facility Number | K1: LHIN | L1: LHIN Names | M1: CDU Designation | N1: P4R | O1: Year 12 funded hospitals
A2: 3920 | B2: North Shore Hlth Ntwrk-Blind River Site | C2: Yes | D2: 2 | E2: NA | G2: North East | H2: 36 | I2: North Shore Health Network | J2: 611 | K2: North East | L2: 13 | M2: No | N2: Small
A3: 3969 | B3: Hospital for Sick Children (The) | C3: Yes | E3: Paediatric Hospital | F3: 1005 | G3: Toronto | H3: 33 | I3: Hospital for Sick Children (The) | J3: 837 | K3: Toronto Central | L3: 7 | M3: Yes | N3: Large | O3: Yes
A4: 3970 | B4: Queensway-Carleton Hospital | C4: Yes | E4: High-Volume Community Hospital | F4: 1003 | G4: East | H4: 34 | I4: Queensway-Carleton Hospital | J4: 777 | K4: Champlain | L4: 11 | M4: Yes | N4: Large | O4: Yes
A5: 3972 | B5: Sault Area Hospital-Sault Ste. Marie | C5: Yes | E5: High-Volume Community Hospital | F5: 1003 | G5: North East | H5: 36 | I5: Sault Area Hospital | J5: 965 | K5: North East | L5: 13 | M5: Yes | N5: Large | O5: Yes
A6: 3978 | B6: Niagara Health System-Welland County | C6: Yes | E6: Medium-Volume Community Hospital | F6: 1002 | G6: West | H6: 31 | I6: Niagara Health System | J6: 962 | K6: Hamilton Niagara Haldimand Brant | L6: 4 | M6: No | N6: Large | O6: Yes
A7: 3982 | B7: Niagara Health System-Greater Niagara | C7: Yes | E7: Medium-Volume Community Hospital | F7: 1002 | G7: West | H7: 31 | I7: Niagara Health System | J7: 962 | K7: Hamilton Niagara Haldimand Brant | L7: 4 | M7: Yes | N7: Large | O7: Yes
A8: 3983 | B8: Relig Hosp Of St.Joseph Of Hotel Dieu | C8: No | E8: NA | G8: West | H8: 31 | I8: Relig Hosp Of St.Joseph Of Hotel Dieu | J8: 790 | K8: Hamilton Niagara Haldimand Brant | L8: 4 | M8: No
A9: 3987 | B9: Royal Victoria Regional Health Centre | C9: Yes | E9: High-Volume Community Hospital | F9: 1003 | G9: Central | H9: 32 | I9: Royal Victoria Regional Health Centre | J9: 606 | K9: North Simcoe Muskoka | L9: 12 | M9: Yes | N9: Large | O9: Yes
A10: 4001 | B10: Southlake Regional Health Centre | C10: Yes | E10: Very High-Volume Community Hospital | F10: 1004 | G10: Central | H10: 32 | I10: Southlake Regional Health Centre | J10: 736 | K10: Central | L10: 8 | M10: Yes | N10: Large | O10: Yes
A11: 4044 | B11: Guelph General Hospital | C11: Yes | E11: High-Volume Community Hospital | F11: 1003 | G11: West | H11: 31 | I11: Guelph General Hospital | J11: 665 | K11: Waterloo Wellington | L11: 3 | M11: Yes | N11: Large | O11: Yes
A12: 4045 | B12: Niagara Health System-Marotta Family Hosp | C12: Yes | E12: High-Volume Community Hospital | F12: 1003 | G12: West | H12: 31 | I12: Niagara Health System | J12: 962 | K12: Hamilton Niagara Haldimand Brant | L12: 4 | M12: Yes | N12: Large | O12: Yes
A13: 4053 | B13: Espanola General Hospital | C13: Yes | D13: 2 | E13: NA | G13: North East | H13: 36 | I13: Espanola General Hospital | J13: 654 | K13: North East | L13: 13 | M13: No | N13: Small
A14: 4054 | B14: St. Joseph's Health Care System-Hamilton | C14: Yes | E14: Teaching Hospital | F14: 1006 | G14: West | H14: 31 | I14: St. Joseph's Health Care System | J14: 674 | K14: Hamilton Niagara Haldimand Brant | L14: 4 | M14: Yes | N14: Large | O14: Yes
A15: 4055 | B15: St. Joseph's Community Health Centre | C15: No | E15: Urgent Care Centre | F15: 1007 | G15: West | H15: 31 | I15: St. Joseph's Community Health Centre | J15: 674 | K15: Hamilton Niagara Haldimand Brant | L15: 4 | M15: No
A16: 4057 | B16: Woodstock Hospital | C16: Yes | E16: Medium-Volume Community Hospital | F16: 1002 | G16: West | H16: 31 | I16: Woodstock Hospital | J16: 890 | K16: South West | L16: 2 | M16: No | N16: Large | O16: Yes
A17: 4058 | B17: Alexandra Hospital | C17: Yes | E17: Very Low-Volume Community Hospital | F17: 1000 | G17: West | H17: 31 | I17: Alexandra Hospital | J17: 684 | K17: South West | L17: 2 | M17: Yes | N17: Small | O17: No
A18: 4063 | B18: Health Sciences North-Laurentian | C18: Yes | E18: Teaching Hospital | F18: 1006 | G18: North East | H18: 36 | I18: Health Sciences North | J18: 959 | K18: North East | L18: 13 | M18: No | N18: Large | O18: Yes
A19: 4070 | B19: Haldimand War Memorial Hospital | C19: Yes | E19: Low-Volume Community Hospital | F19: 1001 | G19: West | H19: 31 | I19: Haldimand War Memorial Hospital | J19: 648 | K19: Hamilton Niagara Haldimand Brant | L19: 4 | M19: No | N19: Small | O19: No
A20: 4071 | B20: Pembroke Regional Hospital Inc. | C20: Yes | E20: Medium-Volume Community Hospital | F20: 1002 | G20: East | H20: 34 | I20: Pembroke Regional Hospital Incorporated | J20: 763 | K20: Champlain | L20: 11 | M20: No | N20: Large | O20: Yes
A21: 4073 | B21: Peterborough Regional Health Centre | C21: Yes | E21: Very High-Volume Community Hospital | F21: 1004 | G21: East | H21: 34 | I21: Peterborough Regional Health Centre | J21: 771 | K21: Central East | L21: 9 | M21: Yes | N21: Large | O21: Yes
A22: 4076 | B22: St. Thomas-Elgin General Hospital | C22: Yes | E22: High-Volume Community Hospital | F22: 1003 | G22: West | H22: 31 | I22: St. Thomas-Elgin General Hospital | J22: 793 | K22: South West | L22: 2 | M22: No | N22: Large | O22: Yes
A23: 4077 | B23: Campbellford Memorial Hospital | C23: Yes | E23: Low-Volume Community Hospital | F23: 1001 | G23: East | H23: 34 | I23: Campbellford Memorial Hospital | J23: 624 | K23: Central East | L23: 9 | M23: No | N23: Small | O23: No
A24: 4078 | B24: South Huron Hospital | C24: Yes | D24: 2 | E24: Very Low-Volume Community Hospital | F24: 1000 | G24: West | H24: 31 | I24: South Huron Hospital | J24: 655 | K24: South West | L24: 2 | M24: No | N24: Small
A25: 4079 | B25: Ottawa Hospital (The)-Civic site | C25: Yes | E25: Teaching Hospital | F25: 1006 | G25: East | H25: 34 | I25: Ottawa Hospital (The) | J25: 958 | K25: Champlain | L25: 11 | M25: Yes | N25: Large | O25: Yes
A26: 4080 | B26: Ottawa Hospital ( The )-Riverside Site | C26: No | E26: NA | G26: East | H26: 34 | I26: Ottawa Hospital (The) | J26: 958 | K26: Champlain | L26: 11 | M26: No
A27: 4081 | B27: South Bruce Grey Health Centre-Durham | C27: Yes | E27: Very Low-Volume Community Hospital | F27: 1000 | G27: West | H27: 31 | I27: South Bruce Grey Health Centre | J27: 946 | K27: South West | L27: 2 | M27: No | N27: Small | O27: No
A28: 4082 | B28: Alexandra Marine and General Hospital | C28: Yes | D28: 2 | E28: NA | G28: West | H28: 31 | I28: Alexandra Marine And General Hospital | J28: 663 | K28: South West | L28: 2 | M28: No | N28: Small
A29: 4085 | B29: Ottawa Hospital (The)-General site | C29: Yes | E29: Teaching Hospital | F29: 1006 | G29: East | H29: 34 | I29: Ottawa Hospital (The) | J29: 958 | K29: Champlain | L29: 11 | M29: Yes | N29: Large | O29: Yes
A30: 4088 | B30: West Haldimand General Hospital | C30: Yes | D30: 2 | E30: NA | G30: West | H30: 31 | I30: West Haldimand General Hospital | J30: 734 | K30: Hamilton Niagara Haldimand Brant | L30: 4 | M30: No | N30: Small
A31: 4091 | B31: Children's Hospital of Eastern Ontario | C31: Yes | E31: Paediatric Hospital | F31: 1005 | G31: East | H31: 34 | I31: Children's Hospital of Eastern Ontario | J31: 751 | K31: Champlain | L31: 11 | M31: No | N31: Large | O31: Yes
A32: 4092 | B32: Lennox and Addington County Gen Hospital | C32: Yes | E32: Low-Volume Community Hospital | F32: 1001 | G32: East | H32: 34 | I32: Lennox And Addington County General Hospital | J32: 592 | K32: South East | L32: 10 | M32: No | N32: Small | O32: No
A33: 4093 | B33: Tillsonburg District Memorial Hospital | C33: Yes | E33: Low-Volume Community Hospital | F33: 1001 | G33: West | H33: 31 | I33: Tillsonburg District Memorial Hospital | J33: 824 | K33: South West | L33: 2 | M33: Yes | N33: Small | O33: No
A34: 4094 | B34: South Bruce Grey Health Centre-Kincardine | C34: Yes | E34: Very Low-Volume Community Hospital | F34: 1000 | G34: West | H34: 31 | I34: South Bruce Grey Health Centre | J34: 946 | K34: South West | L34: 2 | M34: No | N34: Small | O34: No
A35: 4095 | B35: South Bruce Grey Health Centre-Walkerton | C35: Yes | E35: Very Low-Volume Community Hospital | F35: 1000 | G35: West | H35: 31 | I35: South Bruce Grey Health Centre | J35: 946 | K35: South West | L35: 2 | M35: No | N35: Small | O35: No
A36: 4096 | B36: South Bruce Grey Health Centre-Chesley | C36: Yes | E36: Under 7000 ED Visits | F36: 1008 | G36: West | H36: 31 | I36: South Bruce Grey Health Centre | J36: 946 | K36: South West | L36: 2 | M36: No | N36: Small | O36: No
A37: 4097 | B37: Quinte Health-Belleville | C37: Yes | E37: Medium-Volume Community Hospital | F37: 1002 | G37: East | H37: 34 | I37: Quinte Health | J37: 957 | K37: South East | L37: 10 | M37: Yes | N37: Large | O37: Yes
A38: 4098 | B38: Quinte Health-Bancroft | C38: Yes | E38: Very Low-Volume Community Hospital | F38: 1000 | G38: East | H38: 34 | I38: Quinte Health | J38: 957 | K38: South East | L38: 10 | M38: No | N38: Small | O38: No
A39: 4099 | B39: Quinte Health-Trenton | C39: Yes | E39: Medium-Volume Community Hospital | F39: 1002 | G39: East | H39: 34 | I39: Quinte Health | J39: 957 | K39: South East | L39: 10 | M39: Yes | N39: Large | O39: Yes
A40: 4100 | B40: Quinte Health-Picton | C40: Yes | E40: Low-Volume Community Hospital | F40: 1001 | G40: East | H40: 34 | I40: Quinte Health | J40: 957 | K40: South East | L40: 10 | M40: No | N40: Small | O40: No
...

Sheet Quarterly DQ Notes
A1: Current Open Fiscal Year
A2: Data Quarter | B2: Site Name | C2: Site Number | D2: Region | E2: Data Quality Notes | F2: Reporting Issue Designations
E3: Hospital for Sick Children (The) - Did not submit data by submission deadline and is therefore designated as RI (Reporting Issue). | F3: RI
E4: Haldimand War Memorial Hospital - Did not submit data by submission deadline and is therefore designated as RI (Reporting Issue). | F4: RI
E5: Erie Shores Healthcare experienced a Reporting Issue (RI) due to an insufficient number of records submitted. Therefore, data for this site is not displayed. | F5: RI
E6: Timmins and District Hospital - Did not submit data by submission deadline and is therefore designated as RI (Reporting Issue). | F6: RI
E7: Winchester District Memorial Hospital - Did not submit data by submission deadline and is therefore designated as RI (Reporting Issue). | F7: RI
E8: Alexandra Hospital experienced a Reporting Issue (RI) due to an insufficient number of records deemed usable for the calculation of Ambulance Offload Time, and therefore the data for this indicator is not displayed. | F8: RI
E9: Bluewater Health-Sarnia General Site experienced a Reporting Issue (RI) due to an insufficient number of records deemed usable for the calculation of Ambulance Offload Time, and therefore the data for this indicator is not displayed. | F9: RI
E10: Hanover and District Hospital experienced a Reporting Issue (RI) due to an insufficient number of records deemed usable for the calculation of LOS Segment Analysis, and therefore the data for this indicator is not displayed. | F10: RI

Sheet Sheet1
A2: March 2022 | B2: Glengarry Memorial Hospital - Did not submit data by submission deadline and is therefore designated as RI (Reporting Issue). | F2: RI | G2: 4243 | H2: No | I2: 11 | J2: Champlain | K2: No | L2: Volume
A3: March 2022 | B3: Royal Victoria Regional Health Centre - Did not submit data by submission deadline and is therefore designated as RI (Reporting Issue). | G3: 3987 | H3: Yes | I3: 12 | J3: North Simcoe Muskoka | K3: Yes | L3: Volume
A4: February 2022 | B4: Winchester District Memorial Hospital - Did not submit data by submission deadline and is therefore designated as RI (Reporting Issue). | G4: 4267 | H4: No | I4: 11 | J4: Champlain | K4: No | L4: Volume
A5: January 2022 | B5: Royal Victoria Regional Health Centre - experienced a Reporting Issue (RI) for Time to Inpatient Bed (hrs), and therefore the data for this indicator is not displayed. | F5: RI | G5: 3987 | H5: Yes | I5: 12 | J5: North Simcoe Muskoka | K5: Yes | L5: Volume
A6: December 2021 | B6: Winchester District Memorial Hospital - Did not submit data by submission deadline and is therefore designated as RI (Reporting Issue). | G6: 4267 | H6: No | I6: 11 | J6: Champlain | K6: No | L6: Volume
A7: October 2021 | B7: Royal Victoria Regional Health Centre - Did not submit data by submission deadline and is therefore designated as RI (Reporting Issue). | G7: 3987 | H7: Yes | I7: 12 | J7: North Simcoe Muskoka | K7: Yes | L7: Volume
A8: October 2021 | B8: Headwaters Health Care Centre - Orangeville Site - Did not submit data by submission deadline and is therefore designated as RI (Reporting Issue). | G8: 4161 | H8: Yes | I8: 5 | J8: Central West | K8: No | L8: Volume
A9: October 2021 | B9: Glengarry Memorial Hospital - Did not submit data by submission deadline and is therefore designated as RI (Reporting Issue). | G9: 4243 | H9: No | I9: 11 | J9: Champlain | K9: No | L9: Volume
A10: May 2021- November 2021, February 2022 | B10: William Osler Health System - Peel Memorial Centre UCC has been closed temporarily. For reporting purposes, this site data will be given a NS designation. | F10: NS | G10: 4827 | H10: No | I10: 5 | J10: Central West | K10: No | L10: Volume
A11: April 2021 | B11: North York General Hospital - Did not submit data by submission deadline and is therefore designated as RI (Reporting Issue). | G11: 4233 | H11: Yes | I11: 8 | J11: Central | K11: Yes | L11: Volume
A12: March 2021 | B12: William Osler Health System - Peel Memorial Centre - Did not submit data by submission deadline and is therefore designated as RI (Reporting Issue). | G12: 4827 | H12: No | I12: 5 | J12: Central West | K12: No | L12: Volume
A13: January 2021 | B13: Cambridge Memorial Hospital - Did not submit data by submission deadline and is therefore designated as RI (Reporting Issue). | G13: 4103 | H13: Yes | I13: 3 | J13: Waterloo Wellington | K13: Yes | L13: Volume
A14: July 2020 | B14: Glengarry Memorial Hospital - Did not submit data by submission deadline and is therefore designated as RI (Reporting Issue). | G14: 4243 | H14: No | I14: 11 | J14: Champlain | K14: No | L14: Volume
A15: May 2020 | B15: Norfolk General Hospital - Did not submit data by submission deadline and is therefore designated as RI (Reporting Issue). | G15: 4141 | H15: No | I15: 4 | J15: Hamilton Niagara Haldimand Brant | K15: No | L15: Volume
A16: May 2020 | B16: Perth And Smiths Falls District Hospital - Perth Site (Great War Memorial Site) - Did not submit data by submission deadline and is therefore designated as RI (Reporting Issue). | G16: 4251 | H16: No | I16: 10 | J16: South East | K16: No | L16: Volume
A17: May 2020 | B17: Perth And Smiths Falls District Hospital - Smiths Falls Site - Did not submit data by submission deadline and is therefore designated as RI (Reporting Issue). | G17: 4316 | H17: No | I17: 10 | J17: South East | K17: No | L17: Volume
A18: April - August 2020 | B18: From April to August 2020, William Osler Health System - Peel Memorial Centre UCC has been closed temporarily. For reporting purposes, this site data for April to August 2020 will be given a NS designation. | F18: NS | G18: 4827 | H18: No | I18: 5 | J18: Central West | K18: No | L18: Volume
A19: April 2020 and December 2023 | B19: Starting April 2020, Trillium Health Partners - Queensway Health Site UCC has been closed temporarily. For reporting purposes, this site data for April 2020 to Decmeber 2023 will be given a NS designation. | F19: NS | G19: 4759 | H19: No | I19: 6 | J19: Mississauga Halton | K19: No | L19: Volume
A20: April - May 2020 | B20: In April and May 2020, Mackenzie Health – Vaughan Site UCC was closed temporarily. For reporting purposes, this site data for April and May 2020 will be given a NS designation. | F20: NS | G20: 4818 | H20: No | I20: 8 | J20: Central | K20: No | L20: Volume
A21: February 2020 | B21: Sensenbrenner Hospital - Did not submit data by submission deadline and is therefore designated as RI (Reporting Issue). | G21: 4147 | H21: No | I21: 13 | J21: North East | K21: No | L21: Volume
A22: August 2019 - March 2024 | B22: Sensenbrenner Hospital - experienced a Reporting Issue (RI) for Time to Inpatient Bed (hrs), ED length of stay, ED length of stay for admitted and non-admitted patients and Time from consult request to patient left ED and therefore the data for these indicators are not displayed. | F22: RI | G22: 4147 | H22: No | I22: 13 | J22: North East | K22: No | L22: Volume
A23: April 2019 | B23: Perth And Smiths Falls District Hospital - Perth Site (Great War Memorial Site) - Did not submit data by submission deadline and is therefore designated as RI (Reporting Issue). | G23: 4251 | H23: No | I23: 10 | J23: South East | K23: No | L23: Volume
A24: April 2019 | B24: Perth And Smiths Falls District Hospital - Smiths Falls Site - Did not submit data by submission deadline and is therefore designated as RI (Reporting Issue). | G24: 4316 | H24: No | I24: 10 | J24: South East | K24: No | L24: Volume
A25: December 2018 | B25: Lakeridge Health - Port Perry - Did not submit data by submission deadline and is therefore designated as RI (Reporting Issue). | G25: 4172 | H25: No | I25: 9 | J25: Central East | K25: No | L25: Volume
A26: October 2018 | B26: Muskoka Algonquin Healthcare - South Muskoka Memorial Hospital - Did not submit data by submission deadline and is therefore designated as RI (Reporting Issue). | G26: 4621 | H26: No | I26: 12 | J26: North Simcoe Muskoka | K26: Yes | L26: Volume
A27: September 2018 | B27: Glengarry Memorial Hospital - Did not submit data by submission deadline and is therefore designated as RI (Reporting Issue). | G27: 4243 | H27: No | I27: 11 | J27: Champlain | K27: No | L27: Volume
A28: June 2018 | B28: Queensway Carleton Hospital - Did not submit data by submission deadline and is therefore designated as RI (Reporting Issue). | G28: 3970 | H28: Yes | I28: 11 | J28: Champlain | K28: Yes | L28: Volume
A29: April 2018 | B29: St. Joseph’s Hamilton - Charlton (Hamilton) - Did not submit data by submission deadline and is therefore designated as RI (Reporting Issue). | G29: 4054 | H29: Yes | I29: 4 | J29: Hamilton Niagara Haldimand Brant | K29: No | L29: Volume
A30: April 2018 | B30: Pembroke Regional Hospital - Did not submit data by submission deadline and is therefore designated as RI (Reporting Issue). | G30: 4071 | H30: Yes | I30: 11 | J30: Champlain | K30: No | L30: Volume
A31: September 2017 - August 2018 | B31: Lakeridge Health - Port Perry - Did not submit any volumes by submission deadline and is therefore designated as RI (Reporting Issue). | F31: RI | G31: 4172 | H31: No | I31: 9 | J31: Central East | K31: No | L31: Volume
A32: June 2017 and onwards | B32: North York General Hospital - Branson Site - will be given a NS designation. | F32: NS | G32: 4234 | H32: No | I32: 8 | J32: Central | K32: No | L32: Volume
A33: September 2017 - February 2018 | B33: Haldimand War Memorial Hospital - Did not submit data by submission deadline and is therefore designated as RI (Reporting Issue). | G33: 4070 | H33: No | I33: 4 | J33: Hamilton Niagara Haldimand Brant | K33: No | L33: Volume
A34: April 2017 | B34: Haldimand War Memorial Hospital - Did not submit data by submission deadline and is therefore designated as RI (Reporting Issue). | G34: 4070 | H34: No | I34: 4 | J34: Hamilton Niagara Haldimand Brant | K34: No | L34: Volume
A35: April 2017 | B35: As of April 2017, Carleton Place & District Memorial Hospital will not be included in ERNI reporting. For reporting purposes, Carleton Place & District Memorial Hospital data prior to April 2017 will be included in reports. | L35: Volume
A36: Prior to March 2017 | B36: As of March 2017, William Osler Health System - Peel Memorial Centre has been included in ERNI. For reporting purposes, Peel Memorial Centre data prior to March 2017 will be given a NS designation. | F36: NS | G36: 4827 | H36: No | I36: 5 | J36: Central West | K36: No
A37: February 2017 | B37: Haldimand War Memorial Hospital - Did not submit data by submission deadline and is therefore designated as RI (Reporting Issue). | G37: 4070 | H37: No | I37: 4 | J37: Hamilton Niagara Haldimand Brant | K37: No
A38: January 2017 | B38: Cornwall Community Hospital - Mcconnell Avenue Site - Did not submit data by submission deadline and is therefore designated as RI (Reporting Issue). | G38: 4452 | H38: Yes | I38: 11 | J38: Champlain | K38: Yes | L38: Ambulance Volume
A39: August 2016 and onwards | B39: As of August 2016, Humber River Hospital - York Finch Site has been closed. For reporting purposes, Humber River Hospital - York Finch Site will have no data starting August 2016 and will be given a NS designation. | F39: NS | G39: 4089 | L39: ambulance Volume
A40: April 2016 | B40: Peterborough Regional Health Centre - Did not submit data by submission deadline and is therefore designated as RI (Reporting Issue). | G40: 4073 | H40: Yes | I40: 9 | J40: Central East | K40: Yes
A41: April 2016 | B41: Royal Victoria Regional Health Centre - Did not submit data by submission deadline and is therefore designated as RI (Reporting Issue). | G41: 3987 | H41: Yes | I41: 12 | J41: North Simcoe Muskoka | K41: Yes | L41: Volume
...

Sheet log
A1: Remove Ris
A3: June - December 2019 | B3: The Royal Ottawa Health Care Group | C3: 651 | D3: 11 | E3: Please note that data submission issues have been identified at the Royal Ottawa Health Group, due to technical difficulties experienced during their information system upgrade, which impacts their submission. | F3: Remove RI
A4: November 2019 | B4: Royal Ottawa Hlth Care Group - Mh | C4: 651 | D4: 11 | E4: Please note that Royal Ottawa Hlth Care Group - Mh is identified as having Reporting Issues (RI) as they did not submit any ALC newly added cases for November 2019 by the stipulated data submission deadline. | F4: Remove RI
A5: April - June 2020 | B5: The Royal Ottawa Health Care Group | C5: 651 | D5: 11 | E5: Please note that data submission issues have been identified at the Royal Ottawa Health Group, which have resulted in no volumes submitted for April, May and June 2020. | F5: Remove RI
A6: October 2020 | B6: Trillium Health Partners | C6: 975 | D6: 6 | E6: Please note facility has gone live with HIS implementation and has identified issues with their workflow that have impact on October data submission and volumes. | F6: Remove RI
A7: October 2020 | B7: Trillium Health Partners-RCC Church | C7: 975 | D7: 6 | E7: Please note facility has gone live with HIS implementation and has identified issues with their workflow that have impact on October data submission and volumes. | F7: Remove RI
A8: December 2020 | B8: Waypoint Centre For Mental Health Care - Regional | C8: 972 | D8: 12 | E8: Please note that Waypoint Centre For Mental Health Care - Regional is identified as having Reporting Issues (RI) as they did not submit any ALC newly added cases for December 2020 by the stipulated data submission deadline. | F8: Remove RI
A9: November 2020 | B9: Dryden Regional Health Centre | C9: 647 | D9: 14 | E9: Please note that Dryden Regional Health Centre is identified as having Reporting Issues (RI) as they did not submit any ALC newly added cases for November 2020 by the stipulated data submission deadline. | F9: Remove RI
A10: November 2020 | B10: Hospital For Sick Children (The) | C10: 837 | D10: 7 | E10: Please note that Hospital For Sick Children (The) is identified as having Reporting Issues (RI) as they did not submit any ALC discharged cases for November 2020 by the stipulated data submission deadline. | F10: Remove RI
A11: October 2020 | B11: Carleton Place And District Mem Hospital | C11: 626 | D11: 11 | E11: Please note that Carleton Place And District Mem Hospital is identified as having Reporting Issues (RI) as they did not submit any ALC newly added cases for October 2020 by the stipulated data submission deadline. | F11: Remove RI
A12: September 2020 | B12: Hospital For Sick Children (The) | C12: 837 | D12: 7 | E12: Please note that Hospital For Sick Children (The) is identified as having Reporting Issues (RI) as they did not submit any ALC discharged or newly added cases for September 2020 by the stipulated data submission deadline. | F12: Remove RI
A13: April - May 2020 | B13: Waypoint Centre For Mental Health Care - Regional | C13: 972 | D13: 12 | E13: Please note that Waypoint Centre For Mental Health Care - Regional is identified as having Reporting Issues (RI) as they did not submit any ALC newly added cases for April and May 2020 by the stipulated data submission deadline. | F13: Remove RI
